BEGIN:VCALENDAR
VERSION:2.0
PRODID:icalendar-ruby
CALSCALE:GREGORIAN
METHOD:PUBLISH
BEGIN:VEVENT
DTSTAMP:20260423T145431Z
UID:28-161143@ravenswoodnaz.com
DTSTART:20261105T030000Z
DTEND:20261105T040000Z
CLASS:PUBLIC
CREATED:20260423T051603
DESCRIPTION:
LAST-MODIFIED:20260423T051603
LOCATION:Sanctuary
SUMMARY:Wednesday Bible Study
URL;VALUE=URI:https://www.ravenswoodnaz.com/events/wednesday-bible-study/20
 26-11-04
ATTACH;FILENAME=FzpWW.jpg;FMTTYPE=image/jpeg:https://dq5pwpg1q8ru0.cloudfro
 nt.net/2025/03/17/19/35/52/51901406-8ac2-43ff-b461-3cfe88394519/FzpWW.jpg
END:VEVENT
END:VCALENDAR
